BEGIN:VCALENDAR
VERSION:2.0
PRODID:-//Mims Corner - ECPv6.15.11//NONSGML v1.0//EN
CALSCALE:GREGORIAN
METHOD:PUBLISH
X-ORIGINAL-URL:https://mimscorner.org
X-WR-CALDESC:Events for Mims Corner
REFRESH-INTERVAL;VALUE=DURATION:PT1H
X-Robots-Tag:noindex
X-PUBLISHED-TTL:PT1H
BEGIN:VTIMEZONE
TZID:UTC
BEGIN:STANDARD
TZOFFSETFROM:+0000
TZOFFSETTO:+0000
TZNAME:UTC
DTSTART:20230101T000000
END:STANDARD
END:VTIMEZONE
BEGIN:VEVENT
DTSTART;TZID=UTC:20240601T180000
DTEND;TZID=UTC:20240601T193000
DTSTAMP:20260421T132948
CREATED:20240126T085228Z
LAST-MODIFIED:20240504T204718Z
UID:14878-1717264800-1717270200@mimscorner.org
SUMMARY:Build a vehicle drive in movie
DESCRIPTION:Families will build a vehicle out of cardboard\, sit in it to watch movie\, winners (1\,2\,3) will walk away with a prize. (Ages 3-12)
URL:https://mimscorner.org/event/build-a-vehicle-drive-in-movie/
LOCATION:Greater Christ Temple\, 8800 Thornton Rd\, Stockton\, California\, 95209\, United States
END:VEVENT
END:VCALENDAR