BEGIN:VCALENDAR
VERSION:2.0
PRODID:-//Mims Corner - ECPv6.15.11//NONSGML v1.0//EN
CALSCALE:GREGORIAN
METHOD:PUBLISH
X-ORIGINAL-URL:https://mimscorner.org
X-WR-CALDESC:Events for Mims Corner
REFRESH-INTERVAL;VALUE=DURATION:PT1H
X-Robots-Tag:noindex
X-PUBLISHED-TTL:PT1H
BEGIN:VTIMEZONE
TZID:UTC
BEGIN:STANDARD
TZOFFSETFROM:+0000
TZOFFSETTO:+0000
TZNAME:UTC
DTSTART:20230101T000000
END:STANDARD
END:VTIMEZONE
BEGIN:VEVENT
DTSTART;TZID=UTC:20240806T170000
DTEND;TZID=UTC:20240806T190000
DTSTAMP:20260421T110311
CREATED:20240709T042512Z
LAST-MODIFIED:20240709T042513Z
UID:14944-1722963600-1722970800@mimscorner.org
SUMMARY:National Night Out
DESCRIPTION:School supplies handed out while supplies last
URL:https://mimscorner.org/event/national-night-out/
LOCATION:California
END:VEVENT
END:VCALENDAR