BEGIN:VCALENDAR
VERSION:2.0
PRODID:-//Mims Corner - ECPv6.15.11//NONSGML v1.0//EN
CALSCALE:GREGORIAN
METHOD:PUBLISH
X-WR-CALNAME:Mims Corner
X-ORIGINAL-URL:https://mimscorner.org
X-WR-CALDESC:Events for Mims Corner
REFRESH-INTERVAL;VALUE=DURATION:PT1H
X-Robots-Tag:noindex
X-PUBLISHED-TTL:PT1H
BEGIN:VTIMEZONE
TZID:UTC
BEGIN:STANDARD
TZOFFSETFROM:+0000
TZOFFSETTO:+0000
TZNAME:UTC
DTSTART:20230101T000000
END:STANDARD
END:VTIMEZONE
BEGIN:VEVENT
DTSTART;TZID=UTC:20241214T100000
DTEND;TZID=UTC:20241214T170000
DTSTAMP:20260421T094101
CREATED:20220123T111600Z
LAST-MODIFIED:20241022T002454Z
UID:14759-1734170400-1734195600@mimscorner.org
SUMMARY:Annual Bike and Toy Giveaway
DESCRIPTION:
URL:https://mimscorner.org/event/annual-bike-and-toy-giveaway/
LOCATION:Greater Christ Temple\, 8800 Thornton Rd\, Stockton\, California\, 95209\, United States
END:VEVENT
END:VCALENDAR